BEGIN:VCALENDAR
PRODID:-//AT Content Types//AT Event//EN
VERSION:1.0
BEGIN:VEVENT
DTSTART:20231112T230000Z
DTEND:20231119T230000Z
DCREATED:20230215T093703Z
UID:ATEvent-4fa7c5eddc4c42a981e65c39413e0d78
SEQUENCE:0
LAST-MODIFIED:20230307T150018Z
SUMMARY:Holiday camp
DESCRIPTION:for the communities of Our Lady of Guadalupe (Mexico)
LOCATION:Cancún
PRIORITY:3
TRANSP:0
END:VEVENT
END:VCALENDAR
