BEGIN:VCALENDAR
PRODID:-//AT Content Types//AT Event//EN
VERSION:2.0
METHOD:PUBLISH
BEGIN:VEVENT
DTSTAMP:20260422T012811Z
CREATED:20251224T064508Z
UID:ATEvent-25e561cde06544ccb5289750ab6dce88
LAST-MODIFIED:20251224T070241Z
SUMMARY:Intercommunity meeting in Switzerland
DTSTART:20260529T220000Z
DTEND:20260529T220000Z
DESCRIPTION:For the Mountains and Valleys Without borders \nProvince M
 eeting between the La Colombe community in Bulle (Switzerland) and the
  Petites Mites in Fribourg
LOCATION:Treyvaud\, Switzerland
CLASS:PUBLIC
END:VEVENT
END:VCALENDAR
