BEGIN:VCALENDAR
PRODID:-//AT Content Types//AT Event//EN
VERSION:2.0
METHOD:PUBLISH
BEGIN:VEVENT
DTSTAMP:20260422T075820Z
CREATED:20251230T132857Z
UID:ATEvent-76a7e9cd36df44118d66cbf28fbdcbf7
LAST-MODIFIED:20260120T123701Z
SUMMARY:International Day of Persons with Disabilities
DTSTART:20261202T230000Z
DTEND:20261202T230000Z
CLASS:PUBLIC
END:VEVENT
END:VCALENDAR
