BEGIN:VCALENDAR
PRODID:-//AT Content Types//AT Event//EN
VERSION:2.0
METHOD:PUBLISH
BEGIN:VEVENT
DTSTAMP:20260421T221015Z
CREATED:20251125T154930Z
UID:ATEvent-d3c4d459527a4e2c8e2a10e1e72a8e5e
LAST-MODIFIED:20251127T100453Z
SUMMARY:Interprovincial meeting\, Poland
DTSTART:20260625T220000Z
DTEND:20260627T220000Z
DESCRIPTION:Participation of the delegation from the province of South
 ern Poland
LOCATION:Pelplin\, Poland
CLASS:PUBLIC
END:VEVENT
END:VCALENDAR
