BEGIN:VCALENDAR
PRODID:-//AT Content Types//AT Event//EN
VERSION:2.0
METHOD:PUBLISH
BEGIN:VEVENT
DTSTAMP:20260422T114711Z
CREATED:20241002T173258Z
UID:ATEvent-2ec12cd11f3f4056b2680989244e00c2
LAST-MODIFIED:20250321T154235Z
SUMMARY:Jubiléé of people with disabilities
DTSTART:20250427T220000Z
DTEND:20250429T220000Z
LOCATION:Rome\, Italy
CONTACT:info2@iubilaeum2025.va
URL:https://www.iubilaeum2025.va/en/pellegrinaggio/calendario-giubileo/GrandiEventi/Giubileo-delle-Persone-con-Disabilita.html
CLASS:PUBLIC
END:VEVENT
END:VCALENDAR
