BEGIN:VCALENDAR
PRODID:-//AT Content Types//AT Event//EN
VERSION:1.0
BEGIN:VEVENT
DTSTART:20251212T230000Z
DTEND:20251212T230000Z
DCREATED:20251113T113115Z
UID:ATEvent-cd6b6ef867d94c62a50c8e628e8d87c7
SEQUENCE:0
LAST-MODIFIED:20251113T154013Z
SUMMARY:Jubilee pilgrimage of the Province of Luzitania
DESCRIPTION:organised by the Shrine of Fátima
LOCATION:Shrine of Our Lady of Fátima\, Portugal
PRIORITY:3
TRANSP:0
END:VEVENT
END:VCALENDAR
