BEGIN:VCALENDAR
PRODID:-//AT Content Types//AT Event//EN
VERSION:2.0
METHOD:PUBLISH
BEGIN:VEVENT
DTSTAMP:20260422T125212Z
CREATED:20241019T185925Z
UID:ATEvent-965ebd5030694250b66ff12af5c7a583
LAST-MODIFIED:20241019T185959Z
SUMMARY:Lenten retreat with the communities of Poland South
DTSTART:20250321T230000Z
DTEND:20250321T230000Z
LOCATION:Cistercian Abbey in Cracow\, 11 Klasztorna Street\, 31-979 Cracow
CLASS:PUBLIC
END:VEVENT
END:VCALENDAR
