BEGIN:VCALENDAR
PRODID:-//AT Content Types//AT Event//EN
VERSION:1.0
BEGIN:VEVENT
DTSTART:20251204T230000Z
DTEND:20251206T230000Z
DCREATED:20251106T110107Z
UID:ATEvent-7f8f2acae5064774a275edb4dab9b7e7
SEQUENCE:0
LAST-MODIFIED:20251106T131353Z
SUMMARY:Lithuania Advent retreat
LOCATION:Vilnius\, Lithuania
PRIORITY:3
TRANSP:0
END:VEVENT
END:VCALENDAR
