BEGIN:VCALENDAR
PRODID:-//AT Content Types//AT Event//EN
VERSION:2.0
METHOD:PUBLISH
BEGIN:VEVENT
DTSTAMP:20260422T151214Z
CREATED:20230203T082706Z
UID:ATEvent-e940054d98d24064a7362deb0455b182
LAST-MODIFIED:20230209T084530Z
SUMMARY:Mass for Faith and Light Luxembourg
DTSTART:20230429T220000Z
DTEND:20230429T220000Z
DESCRIPTION:On the occasion of the Octave pilgrimage
LOCATION:Cathedral Our Lady of Luxembourg
CLASS:PUBLIC
END:VEVENT
END:VCALENDAR
