BEGIN:VCALENDAR
PRODID:-//AT Content Types//AT Event//EN
VERSION:2.0
METHOD:PUBLISH
BEGIN:VEVENT
DTSTAMP:20260422T075907Z
CREATED:20251125T154244Z
UID:ATEvent-09e96c32ea8a4450853d1acf839ee15d
LAST-MODIFIED:20251125T154305Z
SUMMARY:Mass for the Faith and Light communities in Krakow\, Poland
DTSTART:20260620T220000Z
DTEND:20260620T220000Z
DESCRIPTION:For the province of Southern Poland 3 p.m.
LOCATION:Franciscan Basilica of St. Francis of Assisi (Italian Room)\, 5 All Saints Square\, 31-004 Krakow
CLASS:PUBLIC
END:VEVENT
END:VCALENDAR
