BEGIN:VCALENDAR
PRODID:-//AT Content Types//AT Event//EN
VERSION:1.0
BEGIN:VEVENT
DTSTART:20260124T230000Z
DTEND:20260124T230000Z
DCREATED:20251125T144513Z
UID:ATEvent-ab0db8972e494c9cadf8c5a455d504ff
SEQUENCE:0
LAST-MODIFIED:20251125T162108Z
SUMMARY:Mass for the Faith and Light communities\, Poland
DESCRIPTION:For the province of Southern Poland\n3:00 PM
LOCATION:Franciscan Basilica of St. Francis of Assisi (Italian Room)\, 5 All Saints Square\, 31-004 Kracow
PRIORITY:3
TRANSP:0
END:VEVENT
END:VCALENDAR
