BEGIN:VCALENDAR
PRODID:-//AT Content Types//AT Event//EN
VERSION:2.0
METHOD:PUBLISH
BEGIN:VEVENT
DTSTAMP:20260422T143451Z
CREATED:20230203T113948Z
UID:ATEvent-f16d4ce3994241178f76d7062ec27f14
LAST-MODIFIED:20231103T112141Z
SUMMARY:Meeting and pilgrimage of the communities from The Netherlands
DTSTART:20231026T220000Z
DTEND:20231030T230000Z
LOCATION:Banneux\, Belgium
CLASS:PUBLIC
END:VEVENT
END:VCALENDAR
