BEGIN:VCALENDAR
PRODID:-//AT Content Types//AT Event//EN
VERSION:1.0
BEGIN:VEVENT
DTSTART:20220526T220000Z
DTEND:20220528T220000Z
DCREATED:20220421T080927Z
UID:ATEvent-afeee201009848bc807336245e98dac8
SEQUENCE:0
LAST-MODIFIED:20220421T080928Z
SUMMARY:National assembly of the provinces of Italy
LOCATION:Puglia\, Italy
PRIORITY:3
TRANSP:0
END:VEVENT
END:VCALENDAR
