BEGIN:VCALENDAR
PRODID:-//AT Content Types//AT Event//EN
VERSION:1.0
BEGIN:VEVENT
DTSTART:20240620T220000Z
DTEND:20240622T220000Z
DCREATED:20240520T123854Z
UID:ATEvent-713de62ce88045f49d49dad5f0a83b00
SEQUENCE:0
LAST-MODIFIED:20240529T082520Z
SUMMARY:Ohio annual retreat
DESCRIPTION:An annual retreat is held at the Loyola Center
LOCATION:Ohio\, United States East
PRIORITY:3
TRANSP:0
END:VEVENT
END:VCALENDAR
