BEGIN:VCALENDAR
PRODID:-//AT Content Types//AT Event//EN
VERSION:2.0
METHOD:PUBLISH
BEGIN:VEVENT
DTSTAMP:20260422T130518Z
CREATED:20251117T101124Z
UID:ATEvent-d43f860c10e9430c962628428faef92e
LAST-MODIFIED:20260309T095408Z
SUMMARY:Palm Sunday\, sharing day
DTSTART:20260404T220000Z
DTEND:20260404T220000Z
DESCRIPTION:For the Ukrainian Faith and Light communities
LOCATION:Ukraine
CLASS:PUBLIC
END:VEVENT
END:VCALENDAR
