BEGIN:VCALENDAR
PRODID:-//AT Content Types//AT Event//EN
VERSION:2.0
METHOD:PUBLISH
BEGIN:VEVENT
DTSTAMP:20260422T115737Z
CREATED:20251113T104447Z
UID:ATEvent-0b4801424f96474180af361d35a06ee9
LAST-MODIFIED:20260129T165146Z
SUMMARY:Pilgrimage Day\, Canada East province
DTSTART:20260612T220000Z
DTEND:20260612T220000Z
DESCRIPTION:Theme: ‘Back to basics’
LOCATION:Shrine of Our Lady of Lourdes in Rigaud\, Canada
CLASS:PUBLIC
END:VEVENT
END:VCALENDAR
