BEGIN:VCALENDAR
PRODID:-//AT Content Types//AT Event//EN
VERSION:1.0
BEGIN:VEVENT
DTSTART:20240511T220000Z
DTEND:20240511T220000Z
DCREATED:20231129T114942Z
UID:ATEvent-172c308e60774d45b41781122b7f55cf
SEQUENCE:0
LAST-MODIFIED:20240223T085956Z
SUMMARY:Pilgrimage of the province ILA TRINITY
LOCATION:Lebanon\, place to be confirmed
PRIORITY:3
TRANSP:0
END:VEVENT
END:VCALENDAR
