BEGIN:VCALENDAR
PRODID:-//AT Content Types//AT Event//EN
VERSION:2.0
METHOD:PUBLISH
BEGIN:VEVENT
DTSTAMP:20260422T115710Z
CREATED:20230111T092301Z
UID:ATEvent-ce2bee3751514ef09de1542d5376810e
LAST-MODIFIED:20230111T092302Z
SUMMARY:Pilgrimage province Our Lady of Guadalupe
DTSTART:20230202T230000Z
DTEND:20230204T230000Z
DESCRIPTION:On the occasion of the 35th anniversary of Faith and Light
  in Mexico
LOCATION:Mexico
CLASS:PUBLIC
END:VEVENT
END:VCALENDAR
