BEGIN:VCALENDAR
PRODID:-//AT Content Types//AT Event//EN
VERSION:2.0
METHOD:PUBLISH
BEGIN:VEVENT
DTSTAMP:20260422T094440Z
CREATED:20260224T095453Z
UID:ATEvent-5e184e2975c44d2984d209f743f75d5a
LAST-MODIFIED:20260224T095540Z
SUMMARY:Play about the Nativity - Province Our Lady of Guadalupe
DTSTART:20261212T230000Z
DTEND:20261212T230000Z
DESCRIPTION:The pastorela is a traditional Mexican play that combines 
 folklore and humour\, music and dance. It is performed especially at C
 hristmas and tells the story of shepherds who try to travel to Bethleh
 em to see Jesus. On their way\, they face obstacles imposed on them by
  the devil before receiving help from angels. This traditional Christm
 as show will be broadcast live on Zoom so that all communities can wat
 ch it.
LOCATION:Via Zoom
CLASS:PUBLIC
END:VEVENT
END:VCALENDAR
