BEGIN:VCALENDAR
PRODID:-//AT Content Types//AT Event//EN
VERSION:2.0
METHOD:PUBLISH
BEGIN:VEVENT
DTSTAMP:20260422T102359Z
CREATED:20251117T093422Z
UID:ATEvent-57142d588ee14d059da03b9829fdd0e9
LAST-MODIFIED:20251117T094731Z
SUMMARY:Prayer for peace\, Ukraine
DTSTART:20251230T230000Z
DTEND:20251230T230000Z
DESCRIPTION:For the vice provinces and Ukrainian communities
LOCATION:Ukrainian Catholic University\, Lviv
CLASS:PUBLIC
END:VEVENT
END:VCALENDAR
