BEGIN:VCALENDAR
PRODID:-//AT Content Types//AT Event//EN
VERSION:1.0
BEGIN:VEVENT
DTSTART:20230701T220000Z
DTEND:20230701T220000Z
DCREATED:20230213T145631Z
UID:ATEvent-1409cce20ac749be89f904d94ee80747
SEQUENCE:0
LAST-MODIFIED:20230307T143857Z
SUMMARY:Prayer gathering in Seychelles
DESCRIPTION:for local communities
LOCATION:Victoria
PRIORITY:3
TRANSP:0
END:VEVENT
END:VCALENDAR
