BEGIN:VCALENDAR
PRODID:-//AT Content Types//AT Event//EN
VERSION:1.0
BEGIN:VEVENT
DTSTART:20230701T220000Z
DTEND:20230701T220000Z
DCREATED:20230213T133321Z
UID:ATEvent-ce5ae759aac643fc98b10aa6d9e18269
SEQUENCE:0
LAST-MODIFIED:20230307T143541Z
SUMMARY:Prayer Gathering
LOCATION:Victoria\, Seychelles
PRIORITY:3
TRANSP:0
END:VEVENT
END:VCALENDAR
