BEGIN:VCALENDAR
PRODID:-//AT Content Types//AT Event//EN
VERSION:2.0
METHOD:PUBLISH
BEGIN:VEVENT
DTSTAMP:20260421T235426Z
CREATED:20230203T102108Z
UID:ATEvent-da45d135c6854d9ea5b2fecab8bef5df
LAST-MODIFIED:20230203T102110Z
SUMMARY:Procession in the City of Luxembourg to close the Octave Pilgrimage
DTSTART:20230513T220000Z
DTEND:20230513T220000Z
DESCRIPTION:in which the Faith and Light communities of Luxembourg par
 ticipate
LOCATION:City of Luxembourg
CLASS:PUBLIC
END:VEVENT
END:VCALENDAR
