BEGIN:VCALENDAR
PRODID:-//AT Content Types//AT Event//EN
VERSION:1.0
BEGIN:VEVENT
DTSTART:20260220T230000Z
DTEND:20260221T230000Z
DCREATED:20260122T155602Z
UID:ATEvent-15a1130bafd2428a8f64c928f7f4b326
SEQUENCE:0
LAST-MODIFIED:20260213T091047Z
SUMMARY:Provincial Assembly - Lebanon South and Jordan
DESCRIPTION:For the province of South Lebanon\, Jordan\nDiscernment an
 d election of the new provincial coordinator
LOCATION:Sagesse High School - Ain Saade (Suburb of Beirut)
PRIORITY:3
TRANSP:0
END:VEVENT
END:VCALENDAR
