BEGIN:VCALENDAR
PRODID:-//AT Content Types//AT Event//EN
VERSION:1.0
BEGIN:VEVENT
DTSTART:20260227T230000Z
DTEND:20260228T230000Z
DCREATED:20260122T161745Z
UID:ATEvent-e313ffa0fe964da58e377fbc3f946230
SEQUENCE:0
LAST-MODIFIED:20260213T091425Z
SUMMARY:Provincial Assembly - ILA Trinity
DESCRIPTION:Iran\, North-West Lebanon\, Armenia
LOCATION:Monastery of Our Lady of the Mountain\, Fatqa
PRIORITY:3
TRANSP:0
END:VEVENT
END:VCALENDAR
