BEGIN:VCALENDAR
PRODID:-//AT Content Types//AT Event//EN
VERSION:1.0
BEGIN:VEVENT
DTSTART:20260213T230000Z
DTEND:20260213T230000Z
DCREATED:20260122T163430Z
UID:ATEvent-8ef08bf9e3104d6c8e72947b36608d96
SEQUENCE:0
LAST-MODIFIED:20260213T090719Z
SUMMARY:Provincial Assembly - Beacons of Light
DESCRIPTION:England\, Wales\, Scotland\, Gibraltar\nDiscernment and el
 ection of the new provincial coordinator
LOCATION:Location to be confirmed
PRIORITY:3
TRANSP:0
END:VEVENT
END:VCALENDAR
