BEGIN:VCALENDAR
PRODID:-//AT Content Types//AT Event//EN
VERSION:2.0
METHOD:PUBLISH
BEGIN:VEVENT
DTSTAMP:20260422T013645Z
CREATED:20260122T164812Z
UID:ATEvent-eba3f496aac54cc38ac8358b5da059f2
LAST-MODIFIED:20260130T103141Z
SUMMARY:Provincial Assembly
DTSTART:20260918T220000Z
DTEND:20260918T220000Z
DESCRIPTION:Province of Ireland\nDiscernment and election of the new p
 rovincial coordinator
LOCATION:Sligo\, Ireland
CLASS:PUBLIC
END:VEVENT
END:VCALENDAR
