BEGIN:VCALENDAR
PRODID:-//AT Content Types//AT Event//EN
VERSION:2.0
METHOD:PUBLISH
BEGIN:VEVENT
DTSTAMP:20260422T101811Z
CREATED:20260123T074110Z
UID:ATEvent-87814bfec4b34ec5a72744d77c5fea55
LAST-MODIFIED:20260129T164044Z
SUMMARY:Provincial assembly
DTSTART:20260910T220000Z
DTEND:20260912T220000Z
DESCRIPTION:For the province of Central Poland\nDiscernment and electi
 on of the new provincial coordinator
LOCATION:Location to be confirmed
CLASS:PUBLIC
END:VEVENT
END:VCALENDAR
