BEGIN:VCALENDAR
PRODID:-//AT Content Types//AT Event//EN
VERSION:1.0
BEGIN:VEVENT
DTSTART:20261127T230000Z
DTEND:20261201T230000Z
DCREATED:20260212T133542Z
UID:ATEvent-9dabae60da264c75b285b79664434325
SEQUENCE:0
LAST-MODIFIED:20260413T152851Z
SUMMARY:Provincial Assembly - province Rainbow
DESCRIPTION:Discernment and election of the new provincial coordinator
 
LOCATION:Rodrigues (Mauritius)
PRIORITY:3
TRANSP:0
END:VEVENT
END:VCALENDAR
