BEGIN:VCALENDAR
PRODID:-//AT Content Types//AT Event//EN
VERSION:2.0
METHOD:PUBLISH
BEGIN:VEVENT
DTSTAMP:20260422T102949Z
CREATED:20230203T111312Z
UID:ATEvent-3ced9a5a66d3448fbc0901c155d25a35
LAST-MODIFIED:20230203T111314Z
SUMMARY:Provincial assembly "France Entre deux Mers"
DTSTART:20230207T230000Z
DTEND:20230207T230000Z
LOCATION:Videoconference
CLASS:PUBLIC
END:VEVENT
END:VCALENDAR
