BEGIN:VCALENDAR
PRODID:-//AT Content Types//AT Event//EN
VERSION:1.0
BEGIN:VEVENT
DTSTART:20260205T230000Z
DTEND:20260207T230000Z
DCREATED:20260120T091228Z
UID:ATEvent-88129d84386d44f3929ee8218e2350fb
SEQUENCE:0
LAST-MODIFIED:20260129T162804Z
SUMMARY:Provincial Assembly - Italy
DESCRIPTION:Province River of Peace\nDiscernment and election of the n
 ew provincial coordinator
LOCATION:Barza di Ispra Casa Don Guanella (Varese)
PRIORITY:3
TRANSP:0
END:VEVENT
END:VCALENDAR
