BEGIN:VCALENDAR
PRODID:-//AT Content Types//AT Event//EN
VERSION:2.0
METHOD:PUBLISH
BEGIN:VEVENT
DTSTAMP:20260422T085348Z
CREATED:20221007T082210Z
UID:ATEvent-8c1570fe79444d1c9f8e726e9dfb8611
LAST-MODIFIED:20221007T082211Z
SUMMARY:Provincial assembly Luzitana
DTSTART:20221111T230000Z
DTEND:20221111T230000Z
LOCATION:Sra. da Ajuda\, Porto\, Portugal
CLASS:PUBLIC
END:VEVENT
END:VCALENDAR
