BEGIN:VCALENDAR
PRODID:-//AT Content Types//AT Event//EN
VERSION:1.0
BEGIN:VEVENT
DTSTART:20260529T220000Z
DTEND:20260529T220000Z
DCREATED:20260220T090633Z
UID:ATEvent-12a40a4f8c0c49a89d6c8fb71d49372d
SEQUENCE:0
LAST-MODIFIED:20260220T090758Z
SUMMARY:Provincial Assembly - Sparkling East (France)
DESCRIPTION:Discernment and election of the provincial coordinator(s)
LOCATION:Portieux\, France
PRIORITY:3
TRANSP:0
END:VEVENT
END:VCALENDAR
