BEGIN:VCALENDAR
PRODID:-//AT Content Types//AT Event//EN
VERSION:2.0
METHOD:PUBLISH
BEGIN:VEVENT
DTSTAMP:20260421T234335Z
CREATED:20260209T095231Z
UID:ATEvent-ad23a9fb27b842018188557c0031656a
LAST-MODIFIED:20260213T092017Z
SUMMARY:Provincial Assembly - France "Ile-de-France Ouest"
DTSTART:20260407T220000Z
DTEND:20260407T220000Z
LOCATION:Place to be confirmed
CLASS:PUBLIC
END:VEVENT
END:VCALENDAR
