BEGIN:VCALENDAR
PRODID:-//AT Content Types//AT Event//EN
VERSION:1.0
BEGIN:VEVENT
DTSTART:20260922T220000Z
DTEND:20260922T220000Z
DCREATED:20251125T161224Z
UID:ATEvent-c6e639f5c9234b819eb5bad80eaad11c
SEQUENCE:0
LAST-MODIFIED:20251125T161256Z
SUMMARY:Provincial Council Meeting\, Poland
DESCRIPTION:For the province of Southern Poland
LOCATION:Online\, 8pm
PRIORITY:3
TRANSP:0
END:VEVENT
END:VCALENDAR
