BEGIN:VCALENDAR
PRODID:-//AT Content Types//AT Event//EN
VERSION:2.0
METHOD:PUBLISH
BEGIN:VEVENT
DTSTAMP:20260421T175055Z
CREATED:20230209T094043Z
UID:ATEvent-c021795a40b244b182983dfb56b5a447
LAST-MODIFIED:20230209T094046Z
SUMMARY:Provincial gathering USA East
DTSTART:20230527T080000Z
DTEND:20230527T080000Z
DESCRIPTION:Zoom gathering on the last Saturday of each month to keep 
 in touch! Songs\, Gospel readings\, time of sharing and prayer...
LOCATION:Zoom
CLASS:PUBLIC
END:VEVENT
END:VCALENDAR
