BEGIN:VCALENDAR
PRODID:-//AT Content Types//AT Event//EN
VERSION:1.0
BEGIN:VEVENT
DTSTART:20260924T220000Z
DTEND:20260926T220000Z
DCREATED:20251125T160016Z
UID:ATEvent-26b9eb72d4234c38a1a2a56506735085
SEQUENCE:0
LAST-MODIFIED:20260130T103324Z
SUMMARY:Provincial meeting of community coordinators\, Poland
DESCRIPTION:For the province of Southern Poland
LOCATION:Home of the Seraphine Sisters in Hałcnów\, ul. 18 S. Małgorzaty Szewczyk\, 43-344 Bielsko-Biała\, Poland
PRIORITY:3
TRANSP:0
END:VEVENT
END:VCALENDAR
