BEGIN:VCALENDAR
PRODID:-//AT Content Types//AT Event//EN
VERSION:2.0
METHOD:PUBLISH
BEGIN:VEVENT
DTSTAMP:20260422T085543Z
CREATED:20230126T080912Z
UID:ATEvent-3d78464758a84c6e80f217732b0b0fbe
LAST-MODIFIED:20230202T094722Z
SUMMARY:Provincial meeting Slovenia
DTSTART:20230127T230000Z
DTEND:20230127T230000Z
LOCATION:Ljubljana\, Slovenia
CLASS:PUBLIC
END:VEVENT
END:VCALENDAR
