BEGIN:VCALENDAR
PRODID:-//AT Content Types//AT Event//EN
VERSION:2.0
METHOD:PUBLISH
BEGIN:VEVENT
DTSTAMP:20260422T071407Z
CREATED:20251117T100206Z
UID:ATEvent-dcd29336900943f6854352e9ed08746f
LAST-MODIFIED:20251117T100236Z
SUMMARY:Provincial meeting\, Ukraine
DTSTART:20260212T230000Z
DTEND:20260214T230000Z
DESCRIPTION:For the communities of Lviv
LOCATION:Bryukhovychi\, suburb of Lviv
CLASS:PUBLIC
END:VEVENT
END:VCALENDAR
