BEGIN:VCALENDAR
PRODID:-//AT Content Types//AT Event//EN
VERSION:2.0
METHOD:PUBLISH
BEGIN:VEVENT
DTSTAMP:20260422T012728Z
CREATED:20260211T110452Z
UID:ATEvent-d116bfb8d83a42f19dedb9281858f37c
LAST-MODIFIED:20260211T110526Z
SUMMARY:Provincial meeting
DTSTART:20260605T220000Z
DTEND:20260605T220000Z
DESCRIPTION:For the Danube Province (Romania\, Hungary\, Serbia) \nExc
 hange about the communities of the Danube Province and upcoming events
 
LOCATION:Location to be confirmed
CLASS:PUBLIC
END:VEVENT
END:VCALENDAR
