BEGIN:VCALENDAR
PRODID:-//AT Content Types//AT Event//EN
VERSION:2.0
METHOD:PUBLISH
BEGIN:VEVENT
DTSTAMP:20260422T071208Z
CREATED:20251125T153415Z
UID:ATEvent-0c20ad7bb6c34c56a7129621cd76ea97
LAST-MODIFIED:20251125T153715Z
SUMMARY:Provincial Pilgrimage\, Poland
DTSTART:20260529T220000Z
DTEND:20260529T220000Z
DESCRIPTION:For the province of Southern Poland
LOCATION:Sanctuary of Our Lady of La Salette\, 38-220 Dębowiec 55
CLASS:PUBLIC
END:VEVENT
END:VCALENDAR
