BEGIN:VCALENDAR
PRODID:-//AT Content Types//AT Event//EN
VERSION:1.0
BEGIN:VEVENT
DTSTART:20220331T220000Z
DTEND:20220402T220000Z
DCREATED:20220407T084533Z
UID:ATEvent-80f651ff98f44b6a9256d40d3c9ddda4
SEQUENCE:0
LAST-MODIFIED:20220407T084538Z
SUMMARY:Provincial team meeting Croatia
LOCATION:Županja\, Croatie
PRIORITY:3
TRANSP:0
END:VEVENT
END:VCALENDAR
