BEGIN:VCALENDAR
PRODID:-//AT Content Types//AT Event//EN
VERSION:1.0
BEGIN:VEVENT
DTSTART:20230526T220000Z
DTEND:20230526T220000Z
DCREATED:20221007T085020Z
UID:ATEvent-6051cc2b4a554527a45518a7f89db348
SEQUENCE:0
LAST-MODIFIED:20230113T133244Z
SUMMARY:Provincial team meeting Luzitana
LOCATION:Estoril\, Lisboa\, Portugal
PRIORITY:3
TRANSP:0
END:VEVENT
END:VCALENDAR
