BEGIN:VCALENDAR
PRODID:-//AT Content Types//AT Event//EN
VERSION:2.0
METHOD:PUBLISH
BEGIN:VEVENT
DTSTAMP:20260422T071508Z
CREATED:20220421T081750Z
UID:ATEvent-d83560742fa64f48b7e05f0ecda84da6
LAST-MODIFIED:20220421T081751Z
SUMMARY:Provincial team meeting Luzitana
DTSTART:20220603T220000Z
DTEND:20220603T220000Z
LOCATION:Folgosa et S. Pedro de Fins
CLASS:PUBLIC
END:VEVENT
END:VCALENDAR
