BEGIN:VCALENDAR
PRODID:-//AT Content Types//AT Event//EN
VERSION:2.0
METHOD:PUBLISH
BEGIN:VEVENT
DTSTAMP:20260422T044551Z
CREATED:20251124T145908Z
UID:ATEvent-8098e233a5dd4ab19305dd9d83144713
LAST-MODIFIED:20251124T152434Z
SUMMARY:Provincial team meeting\, Spain
DTSTART:20260108T093000Z
DTEND:20260108T113000Z
DESCRIPTION:Joint reflection on spiritual accompaniment in Faith and L
 ight.
LOCATION:Online
CLASS:PUBLIC
END:VEVENT
END:VCALENDAR
