BEGIN:VCALENDAR
PRODID:-//AT Content Types//AT Event//EN
VERSION:1.0
BEGIN:VEVENT
DTSTART:20260605T220000Z
DTEND:20260605T220000Z
DCREATED:20251124T152126Z
UID:ATEvent-6179f3b420ad4ae3a4ce7317f57088e6
SEQUENCE:0
LAST-MODIFIED:20251125T090800Z
SUMMARY:Provincial "Terra et Mare" Meeting\, Spain
DESCRIPTION:"Terra et Mare" provinces
LOCATION:Madrid\, Spain
PRIORITY:3
TRANSP:0
END:VEVENT
END:VCALENDAR
