BEGIN:VCALENDAR
PRODID:-//AT Content Types//AT Event//EN
VERSION:1.0
BEGIN:VEVENT
DTSTART:20230428T220000Z
DTEND:20230429T220000Z
DCREATED:20230213T132525Z
UID:ATEvent-b628f9f6459141e180386521a6f6878f
SEQUENCE:0
LAST-MODIFIED:20230213T132527Z
SUMMARY:Retreat for Seychelles communities
PRIORITY:3
TRANSP:0
END:VEVENT
END:VCALENDAR
