BEGIN:VCALENDAR
PRODID:-//AT Content Types//AT Event//EN
VERSION:2.0
METHOD:PUBLISH
BEGIN:VEVENT
DTSTAMP:20260422T134611Z
CREATED:20260105T111138Z
UID:ATEvent-ef61433f26f54d1a966c882ce8e0e420
LAST-MODIFIED:20260105T111220Z
SUMMARY:Roscón Meeting (Three Kings' Cake in Spain)
DTSTART:20260110T230000Z
DTEND:20260110T230000Z
DESCRIPTION:Communities of Madrid
LOCATION:Madrid
CLASS:PUBLIC
END:VEVENT
END:VCALENDAR
