BEGIN:VCALENDAR
PRODID:-//AT Content Types//AT Event//EN
VERSION:2.0
METHOD:PUBLISH
BEGIN:VEVENT
DTSTAMP:20260422T152646Z
CREATED:20250403T101617Z
UID:ATEvent-efff82fd27974b7b83ad195eb43d3992
LAST-MODIFIED:20250403T101619Z
SUMMARY:Sending of Mass for the communities of Mauritius on the occasion of the Jubilee of Persons with Disabilities
DTSTART:20250405T220000Z
DTEND:20250405T220000Z
LOCATION:Mauritius
CLASS:PUBLIC
END:VEVENT
END:VCALENDAR
