BEGIN:VCALENDAR
PRODID:-//AT Content Types//AT Event//EN
VERSION:2.0
METHOD:PUBLISH
BEGIN:VEVENT
DTSTAMP:20260421T235140Z
CREATED:20251128T083547Z
UID:ATEvent-fc47f74c8dd147338dcb78e926f2eae6
LAST-MODIFIED:20260129T162119Z
SUMMARY:Spiritual retreat for coordinators and coordination teams
DTSTART:20261009T220000Z
DTEND:20261009T220000Z
DESCRIPTION:For communities in Eastern Canada
LOCATION:St. Maron's Cathedral\, Montreal
CLASS:PUBLIC
END:VEVENT
END:VCALENDAR
